BEGIN:VCALENDAR
VERSION:2.0
PRODID:-//Srilankaramaya - ECPv6.3.4//NONSGML v1.0//EN
CALSCALE:GREGORIAN
METHOD:PUBLISH
X-WR-CALNAME:Srilankaramaya
X-ORIGINAL-URL:https://srilankaramayatest.net
X-WR-CALDESC:Events for Srilankaramaya
REFRESH-INTERVAL;VALUE=DURATION:PT1H
X-Robots-Tag:noindex
X-PUBLISHED-TTL:PT1H
BEGIN:VTIMEZONE
TZID:Pacific/Auckland
BEGIN:STANDARD
TZOFFSETFROM:+1300
TZOFFSETTO:+1200
TZNAME:NZST
DTSTART:20230401T140000
END:STANDARD
BEGIN:DAYLIGHT
TZOFFSETFROM:+1200
TZOFFSETTO:+1300
TZNAME:NZDT
DTSTART:20230923T140000
END:DAYLIGHT
END:VTIMEZONE
BEGIN:VEVENT
DTSTART;TZID=Pacific/Auckland:20231227T093000
DTEND;TZID=Pacific/Auckland:20231227T150000
DTSTAMP:20260423T213218
CREATED:20231113T030013Z
LAST-MODIFIED:20231204T201529Z
UID:4688-1703669400-1703689200@srilankaramayatest.net
SUMMARY:Blood donation camp
DESCRIPTION:Blood donation camp \nලේ දන් දීමේ කඳවුර \n 
URL:https://srilankaramayatest.net/event/blood-donation-camp/
CATEGORIES:Cultural Event,Regular
END:VEVENT
END:VCALENDAR