BEGIN:VCALENDAR
VERSION:2.0
PRODID:-//Srilankaramaya - ECPv6.3.4//NONSGML v1.0//EN
CALSCALE:GREGORIAN
METHOD:PUBLISH
X-ORIGINAL-URL:https://srilankaramayatest.net
X-WR-CALDESC:Events for Srilankaramaya
REFRESH-INTERVAL;VALUE=DURATION:PT1H
X-Robots-Tag:noindex
X-PUBLISHED-TTL:PT1H
BEGIN:VTIMEZONE
TZID:Pacific/Auckland
BEGIN:STANDARD
TZOFFSETFROM:+1300
TZOFFSETTO:+1200
TZNAME:NZST
DTSTART:20240406T140000
END:STANDARD
BEGIN:DAYLIGHT
TZOFFSETFROM:+1200
TZOFFSETTO:+1300
TZNAME:NZDT
DTSTART:20240928T140000
END:DAYLIGHT
END:VTIMEZONE
BEGIN:VEVENT
DTSTART;VALUE=DATE:20240407
DTEND;VALUE=DATE:20240408
DTSTAMP:20260423T154735
CREATED:20231120T235303Z
LAST-MODIFIED:20231123T000222Z
UID:4795-1712448000-1712534399@srilankaramayatest.net
SUMMARY:AvurududUdanaya 2024                                 
DESCRIPTION:Avurudu Udanaya will be held on Sunday the 7th April 2024.
URL:https://srilankaramayatest.net/event/avurudududanaya-2024/
LOCATION:Srilankaramaya\, Auckland\, 11-13 Pukeora Road\, Auckland\, Auckland\, 1062\, New Zealand
CATEGORIES:Cultural Event,Featured
ATTACH;FMTTYPE=image/jpeg:https://srilankaramayatest.net/wp-content/uploads/2023/04/20230409_AvuruduUdanaya_IMG_7227.jpg
END:VEVENT
END:VCALENDAR