BEGIN:VCALENDAR
VERSION:2.0
PRODID:-//Srilankaramaya - ECPv6.3.4//NONSGML v1.0//EN
CALSCALE:GREGORIAN
METHOD:PUBLISH
X-WR-CALNAME:Srilankaramaya
X-ORIGINAL-URL:https://srilankaramayatest.net
X-WR-CALDESC:Events for Srilankaramaya
REFRESH-INTERVAL;VALUE=DURATION:PT1H
X-Robots-Tag:noindex
X-PUBLISHED-TTL:PT1H
BEGIN:VTIMEZONE
TZID:Pacific/Auckland
BEGIN:STANDARD
TZOFFSETFROM:+1300
TZOFFSETTO:+1200
TZNAME:NZST
DTSTART:20250405T140000
END:STANDARD
BEGIN:DAYLIGHT
TZOFFSETFROM:+1200
TZOFFSETTO:+1300
TZNAME:NZDT
DTSTART:20250927T140000
END:DAYLIGHT
END:VTIMEZONE
BEGIN:VEVENT
DTSTART;TZID=Pacific/Auckland:20251012T080000
DTEND;TZID=Pacific/Auckland:20251012T170000
DTSTAMP:20260420T070444
CREATED:20250621T020805Z
LAST-MODIFIED:20250621T020805Z
UID:6071-1760256000-1760288400@srilankaramayatest.net
SUMMARY:Katina Maha Pinkama
DESCRIPTION:Katina Maha Pinkama\nකඨින මහ පින්කම
URL:https://srilankaramayatest.net/event/katina-maha-pinkama/
CATEGORIES:Featured,Pooja Event
ATTACH;FMTTYPE=image/jpeg:https://srilankaramayatest.net/wp-content/uploads/2023/04/20230425_SiteImages_KatinaPerahara_cam1.jpg
END:VEVENT
END:VCALENDAR