BEGIN:VCALENDAR
VERSION:2.0
PRODID:-//Srilankaramaya - ECPv6.3.4//NONSGML v1.0//EN
CALSCALE:GREGORIAN
METHOD:PUBLISH
X-ORIGINAL-URL:https://srilankaramayatest.net
X-WR-CALDESC:Events for Srilankaramaya
REFRESH-INTERVAL;VALUE=DURATION:PT1H
X-Robots-Tag:noindex
X-PUBLISHED-TTL:PT1H
BEGIN:VTIMEZONE
TZID:Pacific/Auckland
BEGIN:STANDARD
TZOFFSETFROM:+1300
TZOFFSETTO:+1200
TZNAME:NZST
DTSTART:20250405T140000
END:STANDARD
BEGIN:DAYLIGHT
TZOFFSETFROM:+1200
TZOFFSETTO:+1300
TZNAME:NZDT
DTSTART:20250927T140000
END:DAYLIGHT
END:VTIMEZONE
BEGIN:VEVENT
DTSTART;TZID=Pacific/Auckland:20250302T080000
DTEND;TZID=Pacific/Auckland:20250302T170000
DTSTAMP:20260420T153254
CREATED:20250204T050312Z
LAST-MODIFIED:20250204T050312Z
UID:5871-1740902400-1740934800@srilankaramayatest.net
SUMMARY:March Meditation Training Program
DESCRIPTION:March Meditation Training Program\nමැදින් භාවනා පුහුණු වැඩසටහන
URL:https://srilankaramayatest.net/event/march-meditation-training-program/
CATEGORIES:Meditation Events,Regular
ATTACH;FMTTYPE=image/jpeg:https://srilankaramayatest.net/wp-content/uploads/2024/10/meditation-vp.jpg
END:VEVENT
BEGIN:VEVENT
DTSTART;TZID=Pacific/Auckland:20250322T080000
DTEND;TZID=Pacific/Auckland:20250323T170000
DTSTAMP:20260420T153254
CREATED:20250204T051131Z
LAST-MODIFIED:20250204T051131Z
UID:5877-1742630400-1742749200@srilankaramayatest.net
SUMMARY:March Monthly Meditation Program
DESCRIPTION:March Monthly Meditation Program\nමැදින් මාසික භාවනා වැඩසටහන
URL:https://srilankaramayatest.net/event/march-monthly-meditation-program/
CATEGORIES:Meditation Events,Regular
ATTACH;FMTTYPE=image/jpeg:https://srilankaramayatest.net/wp-content/uploads/2024/01/Jinalankara-himi-Meditation-program-gen.jpg
END:VEVENT
END:VCALENDAR