BEGIN:VCALENDAR
VERSION:2.0
PRODID:-//Srilankaramaya - ECPv6.3.4//NONSGML v1.0//EN
CALSCALE:GREGORIAN
METHOD:PUBLISH
X-ORIGINAL-URL:https://srilankaramayatest.net
X-WR-CALDESC:Events for Srilankaramaya
REFRESH-INTERVAL;VALUE=DURATION:PT1H
X-Robots-Tag:noindex
X-PUBLISHED-TTL:PT1H
BEGIN:VTIMEZONE
TZID:Pacific/Auckland
BEGIN:STANDARD
TZOFFSETFROM:+1300
TZOFFSETTO:+1200
TZNAME:NZST
DTSTART:20250405T140000
END:STANDARD
BEGIN:DAYLIGHT
TZOFFSETFROM:+1200
TZOFFSETTO:+1300
TZNAME:NZDT
DTSTART:20250927T140000
END:DAYLIGHT
END:VTIMEZONE
BEGIN:VEVENT
DTSTART;TZID=Pacific/Auckland:20250906T080000
DTEND;TZID=Pacific/Auckland:20250906T170000
DTSTAMP:20260420T055530
CREATED:20250621T015732Z
LAST-MODIFIED:20250621T015732Z
UID:6058-1757145600-1757178000@srilankaramayatest.net
SUMMARY:September Meditation Training Program
DESCRIPTION:September Meditation Training Program\nබිනර භාවනා පුහුණු වැඩසටහන
URL:https://srilankaramayatest.net/event/september-meditation-training-program/
CATEGORIES:Meditation Events,Regular
ATTACH;FMTTYPE=image/jpeg:https://srilankaramayatest.net/wp-content/uploads/2024/10/meditation-vp.jpg
END:VEVENT
BEGIN:VEVENT
DTSTART;TZID=Pacific/Auckland:20250920T080000
DTEND;TZID=Pacific/Auckland:20250921T170000
DTSTAMP:20260420T055530
CREATED:20250621T020031Z
LAST-MODIFIED:20250621T020031Z
UID:6063-1758355200-1758474000@srilankaramayatest.net
SUMMARY:September Monthly Meditation Program
DESCRIPTION:September Monthly Meditation Program\nබිනර මාසික භාවනා වැඩසටහන
URL:https://srilankaramayatest.net/event/september-monthly-meditation-program/
CATEGORIES:Meditation Events,Regular
ATTACH;FMTTYPE=image/jpeg:https://srilankaramayatest.net/wp-content/uploads/2024/01/Jinalankara-himi-Meditation-program-gen.jpg
END:VEVENT
END:VCALENDAR