BEGIN:VCALENDAR
VERSION:2.0
PRODID:-//Srilankaramaya - ECPv6.3.4//NONSGML v1.0//EN
CALSCALE:GREGORIAN
METHOD:PUBLISH
X-ORIGINAL-URL:https://srilankaramayatest.net
X-WR-CALDESC:Events for Srilankaramaya
REFRESH-INTERVAL;VALUE=DURATION:PT1H
X-Robots-Tag:noindex
X-PUBLISHED-TTL:PT1H
BEGIN:VTIMEZONE
TZID:Pacific/Auckland
BEGIN:STANDARD
TZOFFSETFROM:+1300
TZOFFSETTO:+1200
TZNAME:NZST
DTSTART:20240406T140000
END:STANDARD
BEGIN:DAYLIGHT
TZOFFSETFROM:+1200
TZOFFSETTO:+1300
TZNAME:NZDT
DTSTART:20240928T140000
END:DAYLIGHT
END:VTIMEZONE
BEGIN:VEVENT
DTSTART;TZID=Pacific/Auckland:20241123T080000
DTEND;TZID=Pacific/Auckland:20241124T170000
DTSTAMP:20260420T232843
CREATED:20241008T043216Z
LAST-MODIFIED:20241008T043216Z
UID:5756-1732348800-1732467600@srilankaramayatest.net
SUMMARY:November Meditation Program - ඉල් මාසයේ  භාවනා  වැඩසටහන
DESCRIPTION:ඉල් මාසයේ භාවනා වැඩසටහන
URL:https://srilankaramayatest.net/event/november-meditation-program-%e0%b6%89%e0%b6%bd%e0%b7%8a-%e0%b6%b8%e0%b7%8f%e0%b7%83%e0%b6%ba%e0%b7%9a-%e0%b6%b7%e0%b7%8f%e0%b7%80%e0%b6%b1%e0%b7%8f-%e0%b7%80%e0%b7%90%e0%b6%a9%e0%b7%83%e0%b6%a7/
CATEGORIES:Meditation Events,Regular
ATTACH;FMTTYPE=image/jpeg:https://srilankaramayatest.net/wp-content/uploads/2024/01/Jinalankara-himi-Meditation-program-gen.jpg
END:VEVENT
END:VCALENDAR