BEGIN:VCALENDAR
VERSION:2.0
PRODID:-//Srilankaramaya - ECPv6.3.4//NONSGML v1.0//EN
CALSCALE:GREGORIAN
METHOD:PUBLISH
X-WR-CALNAME:Srilankaramaya
X-ORIGINAL-URL:https://srilankaramayatest.net
X-WR-CALDESC:Events for Srilankaramaya
REFRESH-INTERVAL;VALUE=DURATION:PT1H
X-Robots-Tag:noindex
X-PUBLISHED-TTL:PT1H
BEGIN:VTIMEZONE
TZID:Pacific/Auckland
BEGIN:STANDARD
TZOFFSETFROM:+1300
TZOFFSETTO:+1200
TZNAME:NZST
DTSTART:20250405T140000
END:STANDARD
BEGIN:DAYLIGHT
TZOFFSETFROM:+1200
TZOFFSETTO:+1300
TZNAME:NZDT
DTSTART:20250927T140000
END:DAYLIGHT
END:VTIMEZONE
BEGIN:VEVENT
DTSTART;TZID=Pacific/Auckland:20250628T080000
DTEND;TZID=Pacific/Auckland:20250629T170000
DTSTAMP:20260421T063456
CREATED:20250620T070954Z
LAST-MODIFIED:20250620T071226Z
UID:6034-1751097600-1751216400@srilankaramayatest.net
SUMMARY:June Monthly Meditation Program
DESCRIPTION: \n\n\nJune Monthly Meditation Program \nපොසොන් මාසික භාවනා වැඩසටහන
URL:https://srilankaramayatest.net/event/june-monthly-meditation-program/
CATEGORIES:Meditation Events,Regular
ATTACH;FMTTYPE=image/jpeg:https://srilankaramayatest.net/wp-content/uploads/2024/01/Jinalankara-himi-Meditation-program-gen.jpg
END:VEVENT
BEGIN:VEVENT
DTSTART;TZID=Pacific/Auckland:20250706T080000
DTEND;TZID=Pacific/Auckland:20250706T170000
DTSTAMP:20260421T063456
CREATED:20250620T071449Z
LAST-MODIFIED:20250621T003219Z
UID:6037-1751788800-1751821200@srilankaramayatest.net
SUMMARY:July Meditation Training Program
DESCRIPTION:July Meditation Training Program\nඇසල භාවනා පුහුණු වැඩසටහන
URL:https://srilankaramayatest.net/event/june-meditation-training-program/
CATEGORIES:Meditation Events,Regular
ATTACH;FMTTYPE=image/jpeg:https://srilankaramayatest.net/wp-content/uploads/2024/10/meditation-vp.jpg
END:VEVENT
BEGIN:VEVENT
DTSTART;TZID=Pacific/Auckland:20250719T080000
DTEND;TZID=Pacific/Auckland:20250720T170000
DTSTAMP:20260421T063456
CREATED:20250621T015025Z
LAST-MODIFIED:20250621T015025Z
UID:6045-1752912000-1753030800@srilankaramayatest.net
SUMMARY:July Monthly Meditation Program
DESCRIPTION:July Monthly Meditation Program\nඇසල මාසික භාවනා වැඩසටහන
URL:https://srilankaramayatest.net/event/july-monthly-meditation-program/
CATEGORIES:Meditation Events,Regular
ATTACH;FMTTYPE=image/jpeg:https://srilankaramayatest.net/wp-content/uploads/2024/01/Jinalankara-himi-Meditation-program-gen.jpg
END:VEVENT
BEGIN:VEVENT
DTSTART;TZID=Pacific/Auckland:20250803T080000
DTEND;TZID=Pacific/Auckland:20250803T170000
DTSTAMP:20260421T063456
CREATED:20250621T015325Z
LAST-MODIFIED:20250621T015325Z
UID:6050-1754208000-1754240400@srilankaramayatest.net
SUMMARY:August Meditation Training Program
DESCRIPTION:August Meditation Training Program\nනිකිණි භාවනා පුහුණු වැඩසටහන
URL:https://srilankaramayatest.net/event/august-meditation-training-program/
CATEGORIES:Meditation Events,Regular
ATTACH;FMTTYPE=image/jpeg:https://srilankaramayatest.net/wp-content/uploads/2024/10/meditation-vp.jpg
END:VEVENT
BEGIN:VEVENT
DTSTART;TZID=Pacific/Auckland:20250816T080000
DTEND;TZID=Pacific/Auckland:20250817T170000
DTSTAMP:20260421T063456
CREATED:20250621T015527Z
LAST-MODIFIED:20250621T015527Z
UID:6054-1755331200-1755450000@srilankaramayatest.net
SUMMARY:August Monthly Meditation Program
DESCRIPTION:August Monthly Meditation Program\nනිකිණි මාසික භාවනා වැඩසටහන
URL:https://srilankaramayatest.net/event/august-monthly-meditation-program/
CATEGORIES:Meditation Events,Regular
ATTACH;FMTTYPE=image/jpeg:https://srilankaramayatest.net/wp-content/uploads/2024/01/Jinalankara-himi-Meditation-program-gen.jpg
END:VEVENT
BEGIN:VEVENT
DTSTART;TZID=Pacific/Auckland:20250906T080000
DTEND;TZID=Pacific/Auckland:20250906T170000
DTSTAMP:20260421T063456
CREATED:20250621T015732Z
LAST-MODIFIED:20250621T015732Z
UID:6058-1757145600-1757178000@srilankaramayatest.net
SUMMARY:September Meditation Training Program
DESCRIPTION:September Meditation Training Program\nබිනර භාවනා පුහුණු වැඩසටහන
URL:https://srilankaramayatest.net/event/september-meditation-training-program/
CATEGORIES:Meditation Events,Regular
ATTACH;FMTTYPE=image/jpeg:https://srilankaramayatest.net/wp-content/uploads/2024/10/meditation-vp.jpg
END:VEVENT
BEGIN:VEVENT
DTSTART;TZID=Pacific/Auckland:20250920T080000
DTEND;TZID=Pacific/Auckland:20250921T170000
DTSTAMP:20260421T063456
CREATED:20250621T020031Z
LAST-MODIFIED:20250621T020031Z
UID:6063-1758355200-1758474000@srilankaramayatest.net
SUMMARY:September Monthly Meditation Program
DESCRIPTION:September Monthly Meditation Program\nබිනර මාසික භාවනා වැඩසටහන
URL:https://srilankaramayatest.net/event/september-monthly-meditation-program/
CATEGORIES:Meditation Events,Regular
ATTACH;FMTTYPE=image/jpeg:https://srilankaramayatest.net/wp-content/uploads/2024/01/Jinalankara-himi-Meditation-program-gen.jpg
END:VEVENT
BEGIN:VEVENT
DTSTART;TZID=Pacific/Auckland:20251004T080000
DTEND;TZID=Pacific/Auckland:20251004T170000
DTSTAMP:20260421T063456
CREATED:20250621T020558Z
LAST-MODIFIED:20250621T020558Z
UID:6067-1759564800-1759597200@srilankaramayatest.net
SUMMARY:October Meditation Training Program
DESCRIPTION:October Meditation Training Program\nවප් භාවනා පුහුණු වැඩසටහන
URL:https://srilankaramayatest.net/event/october-meditation-training-program/
CATEGORIES:Meditation Events,Regular
ATTACH;FMTTYPE=image/jpeg:https://srilankaramayatest.net/wp-content/uploads/2024/10/meditation-vp.jpg
END:VEVENT
BEGIN:VEVENT
DTSTART;TZID=Pacific/Auckland:20251018T080000
DTEND;TZID=Pacific/Auckland:20251019T170000
DTSTAMP:20260421T063456
CREATED:20250621T020933Z
LAST-MODIFIED:20250621T020933Z
UID:6073-1760774400-1760893200@srilankaramayatest.net
SUMMARY:October Monthly Meditation Program
DESCRIPTION:October Monthly Meditation Program\nවප් මාසික භාවනා වැඩසටහන
URL:https://srilankaramayatest.net/event/october-monthly-meditation-program/
CATEGORIES:Meditation Events,Regular
ATTACH;FMTTYPE=image/jpeg:https://srilankaramayatest.net/wp-content/uploads/2024/01/Jinalankara-himi-Meditation-program-gen.jpg
END:VEVENT
BEGIN:VEVENT
DTSTART;TZID=Pacific/Auckland:20251101T080000
DTEND;TZID=Pacific/Auckland:20251101T170000
DTSTAMP:20260421T063456
CREATED:20250621T040320Z
LAST-MODIFIED:20250621T040320Z
UID:6078-1761984000-1762016400@srilankaramayatest.net
SUMMARY:November Meditation Training Program
DESCRIPTION:November Meditation Training Program\nඉල් භාවනා පුහුණු වැඩසටහන
URL:https://srilankaramayatest.net/event/november-meditation-training-program/
CATEGORIES:Meditation Events,Regular
ATTACH;FMTTYPE=image/jpeg:https://srilankaramayatest.net/wp-content/uploads/2024/10/meditation-vp.jpg
END:VEVENT
BEGIN:VEVENT
DTSTART;TZID=Pacific/Auckland:20251122T080000
DTEND;TZID=Pacific/Auckland:20251123T170000
DTSTAMP:20260421T063456
CREATED:20250621T040507Z
LAST-MODIFIED:20250621T040507Z
UID:6082-1763798400-1763917200@srilankaramayatest.net
SUMMARY:November Monthly Meditation Program
DESCRIPTION:November Monthly Meditation Program\nඉල් මාසික භාවනා වැඩසටහන
URL:https://srilankaramayatest.net/event/november-monthly-meditation-program/
CATEGORIES:Meditation Events,Regular
ATTACH;FMTTYPE=image/jpeg:https://srilankaramayatest.net/wp-content/uploads/2024/01/Jinalankara-himi-Meditation-program-gen.jpg
END:VEVENT
BEGIN:VEVENT
DTSTART;TZID=Pacific/Auckland:20251206T080000
DTEND;TZID=Pacific/Auckland:20251206T170000
DTSTAMP:20260421T063456
CREATED:20250621T040714Z
LAST-MODIFIED:20250621T040714Z
UID:6086-1765008000-1765040400@srilankaramayatest.net
SUMMARY:December Meditation Training Program
DESCRIPTION:December Meditation Training Program\nඋදුවප් භාවනා පුහුණු වැඩසටහන
URL:https://srilankaramayatest.net/event/december-meditation-training-program/
CATEGORIES:Meditation Events,Regular
ATTACH;FMTTYPE=image/jpeg:https://srilankaramayatest.net/wp-content/uploads/2024/10/meditation-vp.jpg
END:VEVENT
BEGIN:VEVENT
DTSTART;TZID=Pacific/Auckland:20251220T080000
DTEND;TZID=Pacific/Auckland:20251221T170000
DTSTAMP:20260421T063456
CREATED:20250621T040901Z
LAST-MODIFIED:20250621T040901Z
UID:6090-1766217600-1766336400@srilankaramayatest.net
SUMMARY:December Monthly Meditation Program
DESCRIPTION:December Monthly Meditation Program\nඋදුවප් මාසික භාවනා වැඩසටහන
URL:https://srilankaramayatest.net/event/december-monthly-meditation-program/
CATEGORIES:Meditation Events,Regular
ATTACH;FMTTYPE=image/jpeg:https://srilankaramayatest.net/wp-content/uploads/2024/01/Jinalankara-himi-Meditation-program-gen.jpg
END:VEVENT
END:VCALENDAR