BEGIN:VCALENDAR
VERSION:2.0
PRODID:-//Srilankaramaya - ECPv6.3.4//NONSGML v1.0//EN
CALSCALE:GREGORIAN
METHOD:PUBLISH
X-WR-CALNAME:Srilankaramaya
X-ORIGINAL-URL:https://srilankaramayatest.net
X-WR-CALDESC:Events for Srilankaramaya
REFRESH-INTERVAL;VALUE=DURATION:PT1H
X-Robots-Tag:noindex
X-PUBLISHED-TTL:PT1H
BEGIN:VTIMEZONE
TZID:Pacific/Auckland
BEGIN:STANDARD
TZOFFSETFROM:+1300
TZOFFSETTO:+1200
TZNAME:NZST
DTSTART:20230401T140000
END:STANDARD
BEGIN:DAYLIGHT
TZOFFSETFROM:+1200
TZOFFSETTO:+1300
TZNAME:NZDT
DTSTART:20230923T140000
END:DAYLIGHT
BEGIN:STANDARD
TZOFFSETFROM:+1300
TZOFFSETTO:+1200
TZNAME:NZST
DTSTART:20240406T140000
END:STANDARD
BEGIN:DAYLIGHT
TZOFFSETFROM:+1200
TZOFFSETTO:+1300
TZNAME:NZDT
DTSTART:20240928T140000
END:DAYLIGHT
TZID:UTC
BEGIN:STANDARD
TZOFFSETFROM:+0000
TZOFFSETTO:+0000
TZNAME:UTC
DTSTART:20220101T000000
END:STANDARD
END:VTIMEZONE
BEGIN:VEVENT
DTSTART;TZID=Pacific/Auckland:20240120T080000
DTEND;TZID=Pacific/Auckland:20240121T170000
DTSTAMP:20260426T073906
CREATED:20240102T015433Z
LAST-MODIFIED:20240125T225904Z
UID:5020-1705737600-1705856400@srilankaramayatest.net
SUMMARY:January Mediation Program
DESCRIPTION:January Mediation Program \nදුරුතු භාවනා වැඩසටහන \n 
URL:https://srilankaramayatest.net/event/january-mediation-program/
CATEGORIES:Meditation Events,Regular
ATTACH;FMTTYPE=image/jpeg:https://srilankaramayatest.net/wp-content/uploads/2024/01/Jinalankara-himi-Meditation-program-gen.jpg
END:VEVENT
BEGIN:VEVENT
DTSTART;TZID=Pacific/Auckland:20231216T080000
DTEND;TZID=Pacific/Auckland:20231217T170000
DTSTAMP:20260426T073906
CREATED:20231113T015614Z
LAST-MODIFIED:20231128T215248Z
UID:4676-1702713600-1702832400@srilankaramayatest.net
SUMMARY:December Mediation Program
DESCRIPTION:December Mediation Program \nඋදුවප් භාවනා වැඩසටහන \n 
URL:https://srilankaramayatest.net/event/december-mediation-program/
CATEGORIES:Meditation Events,Regular
END:VEVENT
BEGIN:VEVENT
DTSTART;TZID=Pacific/Auckland:20231029T080000
DTEND;TZID=Pacific/Auckland:20231029T163000
DTSTAMP:20260426T073906
CREATED:20231016T031203Z
LAST-MODIFIED:20231018T045421Z
UID:4664-1698566400-1698597000@srilankaramayatest.net
SUMMARY:October Sil Program
DESCRIPTION:වප් සීල භාවනා වැඩසටහන – October Sil Program\n \n 
URL:https://srilankaramayatest.net/event/october-sil-program/
CATEGORIES:Meditation Events,Sil Event
END:VEVENT
BEGIN:VEVENT
DTSTART;TZID=UTC:20230916T080000
DTEND;TZID=UTC:20230917T170000
DTSTAMP:20260426T073906
CREATED:20230115T190007Z
LAST-MODIFIED:20231016T024355Z
UID:4142-1694851200-1694970000@srilankaramayatest.net
SUMMARY:September Meditation Program
DESCRIPTION:බිනර භාවනා වැඩ සටහන – September Meditation Program
URL:https://srilankaramayatest.net/event/september-meditation-program/
CATEGORIES:Dharma,Meditation Events
ATTACH;FMTTYPE=image/jpeg:https://srilankaramayatest.net/wp-content/uploads/2023/04/20230426_SiteImages_SamadhiPilima.jpg
END:VEVENT
BEGIN:VEVENT
DTSTART;TZID=UTC:20230819T080000
DTEND;TZID=UTC:20230820T170000
DTSTAMP:20260426T073906
CREATED:20230119T200039Z
LAST-MODIFIED:20231016T024414Z
UID:4135-1692432000-1692550800@srilankaramayatest.net
SUMMARY:August Meditation Program
DESCRIPTION:නිකිණි භාවනා වැඩ සටහන – August Meditation Program
URL:https://srilankaramayatest.net/event/august-meditation-program/
CATEGORIES:Dharma,Meditation Events
ATTACH;FMTTYPE=image/jpeg:https://srilankaramayatest.net/wp-content/uploads/2023/04/20230426_SiteImages_SamadhiPilima.jpg
END:VEVENT
BEGIN:VEVENT
DTSTART;TZID=UTC:20230715T080000
DTEND;TZID=UTC:20230716T170000
DTSTAMP:20260426T073906
CREATED:20230114T190021Z
LAST-MODIFIED:20231016T024523Z
UID:4128-1689408000-1689526800@srilankaramayatest.net
SUMMARY:July Meditation Program
DESCRIPTION:ඇසල භාවනා වැඩ සටහන – July Meditation Program
URL:https://srilankaramayatest.net/event/july-meditation-program/
CATEGORIES:Dharma,Meditation Events
ATTACH;FMTTYPE=image/jpeg:https://srilankaramayatest.net/wp-content/uploads/2023/04/20230426_SiteImages_SamadhiPilima.jpg
END:VEVENT
BEGIN:VEVENT
DTSTART;TZID=UTC:20221010T080000
DTEND;TZID=UTC:20221010T170000
DTSTAMP:20260426T073906
CREATED:20221031T134427Z
LAST-MODIFIED:20230111T091709Z
UID:2989-1665388800-1665421200@srilankaramayatest.net
SUMMARY:Katina pinkama
DESCRIPTION:The annual Katina ceremony \n  \n 
URL:https://srilankaramayatest.net/event/katina-pinkama/
LOCATION:Srilankaramaya\, Auckland\, 11-13 Pukeora Road\, Auckland\, Auckland\, 1062\, New Zealand
CATEGORIES:Meditation Events
END:VEVENT
END:VCALENDAR