BEGIN:VCALENDAR
VERSION:2.0
PRODID:-//Srilankaramaya - ECPv6.3.4//NONSGML v1.0//EN
CALSCALE:GREGORIAN
METHOD:PUBLISH
X-WR-CALNAME:Srilankaramaya
X-ORIGINAL-URL:https://srilankaramayatest.net
X-WR-CALDESC:Events for Srilankaramaya
REFRESH-INTERVAL;VALUE=DURATION:PT1H
X-Robots-Tag:noindex
X-PUBLISHED-TTL:PT1H
BEGIN:VTIMEZONE
TZID:Pacific/Auckland
BEGIN:STANDARD
TZOFFSETFROM:+1300
TZOFFSETTO:+1200
TZNAME:NZST
DTSTART:20250405T140000
END:STANDARD
BEGIN:DAYLIGHT
TZOFFSETFROM:+1200
TZOFFSETTO:+1300
TZNAME:NZDT
DTSTART:20250927T140000
END:DAYLIGHT
END:VTIMEZONE
BEGIN:VEVENT
DTSTART;TZID=Pacific/Auckland:20250803T080000
DTEND;TZID=Pacific/Auckland:20250803T170000
DTSTAMP:20260422T073420
CREATED:20250621T015325Z
LAST-MODIFIED:20250621T015325Z
UID:6050-1754208000-1754240400@srilankaramayatest.net
SUMMARY:August Meditation Training Program
DESCRIPTION:August Meditation Training Program\nනිකිණි භාවනා පුහුණු වැඩසටහන
URL:https://srilankaramayatest.net/event/august-meditation-training-program/
CATEGORIES:Meditation Events,Regular
ATTACH;FMTTYPE=image/jpeg:https://srilankaramayatest.net/wp-content/uploads/2024/10/meditation-vp.jpg
END:VEVENT
BEGIN:VEVENT
DTSTART;TZID=Pacific/Auckland:20250810T080000
DTEND;TZID=Pacific/Auckland:20250810T170000
DTSTAMP:20260422T073420
CREATED:20250621T015429Z
LAST-MODIFIED:20250621T015429Z
UID:6052-1754812800-1754845200@srilankaramayatest.net
SUMMARY:August monthly Sil Program
DESCRIPTION:August monthly Sil Program\nනිකිණි මාසික සීල භාවනා වැඩ සටහන
URL:https://srilankaramayatest.net/event/august-monthly-sil-program/
CATEGORIES:Regular,Sil Event
ATTACH;FMTTYPE=image/jpeg:https://srilankaramayatest.net/wp-content/uploads/2023/01/monthly-sil.jpg
END:VEVENT
BEGIN:VEVENT
DTSTART;TZID=Pacific/Auckland:20250816T080000
DTEND;TZID=Pacific/Auckland:20250817T170000
DTSTAMP:20260422T073420
CREATED:20250621T015527Z
LAST-MODIFIED:20250621T015527Z
UID:6054-1755331200-1755450000@srilankaramayatest.net
SUMMARY:August Monthly Meditation Program
DESCRIPTION:August Monthly Meditation Program\nනිකිණි මාසික භාවනා වැඩසටහන
URL:https://srilankaramayatest.net/event/august-monthly-meditation-program/
CATEGORIES:Meditation Events,Regular
ATTACH;FMTTYPE=image/jpeg:https://srilankaramayatest.net/wp-content/uploads/2024/01/Jinalankara-himi-Meditation-program-gen.jpg
END:VEVENT
BEGIN:VEVENT
DTSTART;TZID=Pacific/Auckland:20250830T080000
DTEND;TZID=Pacific/Auckland:20250830T170000
DTSTAMP:20260422T073420
CREATED:20250621T015624Z
LAST-MODIFIED:20250621T015624Z
UID:6056-1756540800-1756573200@srilankaramayatest.net
SUMMARY:August Daham Sithuvily
DESCRIPTION:August Daham Sithuvily\nනිකිණි දහම් සිතුවිලි
URL:https://srilankaramayatest.net/event/august-daham-sithuvily/
CATEGORIES:Dharma,Regular
ATTACH;FMTTYPE=image/jpeg:https://srilankaramayatest.net/wp-content/uploads/2024/07/20240629-Sthupa-scaled.jpg
END:VEVENT
END:VCALENDAR